BEGIN:VCALENDAR
VERSION:2.0
PRODID:-//Equilibrium Brewery - ECPv6.15.20//NONSGML v1.0//EN
CALSCALE:GREGORIAN
METHOD:PUBLISH
X-WR-CALNAME:Equilibrium Brewery
X-ORIGINAL-URL:https://www.eqbrew.com
X-WR-CALDESC:Events for Equilibrium Brewery
REFRESH-INTERVAL;VALUE=DURATION:PT1H
X-Robots-Tag:noindex
X-PUBLISHED-TTL:PT1H
BEGIN:VTIMEZONE
TZID:America/Halifax
BEGIN:DAYLIGHT
TZOFFSETFROM:-0400
TZOFFSETTO:-0300
TZNAME:ADT
DTSTART:20220313T060000
END:DAYLIGHT
BEGIN:STANDARD
TZOFFSETFROM:-0300
TZOFFSETTO:-0400
TZNAME:AST
DTSTART:20221106T050000
END:STANDARD
BEGIN:DAYLIGHT
TZOFFSETFROM:-0400
TZOFFSETTO:-0300
TZNAME:ADT
DTSTART:20230312T060000
END:DAYLIGHT
BEGIN:STANDARD
TZOFFSETFROM:-0300
TZOFFSETTO:-0400
TZNAME:AST
DTSTART:20231105T050000
END:STANDARD
BEGIN:DAYLIGHT
TZOFFSETFROM:-0400
TZOFFSETTO:-0300
TZNAME:ADT
DTSTART:20240310T060000
END:DAYLIGHT
BEGIN:STANDARD
TZOFFSETFROM:-0300
TZOFFSETTO:-0400
TZNAME:AST
DTSTART:20241103T050000
END:STANDARD
END:VTIMEZONE
BEGIN:VEVENT
DTSTART;VALUE=DATE:20230408
DTEND;VALUE=DATE:20230409
DTSTAMP:20260424T075657
CREATED:20230320T150454Z
LAST-MODIFIED:20230320T150526Z
UID:8422-1680912000-1680998399@www.eqbrew.com
SUMMARY:Space Exploration Day 2023
DESCRIPTION:We are lovers of space and the vast beyond\, so we will celebrate it…..together with you.Space Exploration Week will focus on all things beyond Earth and its atmosphere\, with a look into the vast expanse of the universe\, the majesty of the cosmos\, its breathtaking planets\, and stunning phenomena. We will celebrate with a week of all new space inspired beers and one very special galactic in-person release on Space Exploration Day itself\, 4.8.23\, our first triple mash “Pappy” Old Rip Van Winkle barrel aged stout. \nA day you won’t want to miss.
URL:https://www.eqbrew.com/event/space-exploration-day-2023/
ATTACH;FMTTYPE=image/png:https://www.eqbrew.com/wp-content/uploads/2023/03/Untitled-15-copy.png
END:VEVENT
END:VCALENDAR