BEGIN:VCALENDAR
VERSION:2.0
PRODID:-//Equilibrium Brewery - ECPv6.15.20//NONSGML v1.0//EN
CALSCALE:GREGORIAN
METHOD:PUBLISH
X-WR-CALNAME:Equilibrium Brewery
X-ORIGINAL-URL:https://www.eqbrew.com
X-WR-CALDESC:Events for Equilibrium Brewery
REFRESH-INTERVAL;VALUE=DURATION:PT1H
X-Robots-Tag:noindex
X-PUBLISHED-TTL:PT1H
BEGIN:VTIMEZONE
TZID:America/Halifax
BEGIN:DAYLIGHT
TZOFFSETFROM:-0400
TZOFFSETTO:-0300
TZNAME:ADT
DTSTART:20220313T060000
END:DAYLIGHT
BEGIN:STANDARD
TZOFFSETFROM:-0300
TZOFFSETTO:-0400
TZNAME:AST
DTSTART:20221106T050000
END:STANDARD
BEGIN:DAYLIGHT
TZOFFSETFROM:-0400
TZOFFSETTO:-0300
TZNAME:ADT
DTSTART:20230312T060000
END:DAYLIGHT
BEGIN:STANDARD
TZOFFSETFROM:-0300
TZOFFSETTO:-0400
TZNAME:AST
DTSTART:20231105T050000
END:STANDARD
BEGIN:DAYLIGHT
TZOFFSETFROM:-0400
TZOFFSETTO:-0300
TZNAME:ADT
DTSTART:20240310T060000
END:DAYLIGHT
BEGIN:STANDARD
TZOFFSETFROM:-0300
TZOFFSETTO:-0400
TZNAME:AST
DTSTART:20241103T050000
END:STANDARD
END:VTIMEZONE
BEGIN:VEVENT
DTSTART;TZID=America/Halifax:20230610T110000
DTEND;TZID=America/Halifax:20230610T230000
DTSTAMP:20260422T064051
CREATED:20230524T153445Z
LAST-MODIFIED:20230601T141600Z
UID:8517-1686394800-1686438000@www.eqbrew.com
SUMMARY:Equilibrium Canniversary Six
DESCRIPTION:Canniversary Six steps back in time to connect the past and present. There are so many initial celebratory moments in Equilibrium’s history e.g.: our first Henry St. brew day\, the first release\, the taproom opening\, kicking Grape Foot off the line\, and the day we started offering canned beer to the public. With so many significant dates to reflect on\, it was hard to pick what our proper anniversary date should be. We finally decided to pick one and celebrate it annually. \nBack on 6/9/17\, we offered cans for the very first time\, a pivotal moment in getting people our beer. With our six year canning anniversary approaching\, we decided to celebrate with an event\, Cannivesry Six\, being held on 6/10/23 in the taproom. To celebrate\, we are taking some of our past brews and remaking them using aspects of our latest present technology including what we think aspects of the future of brewing may hold. \nCome Saturday\, 6/10\, we will have all of our newest creations on tap\, and we will also bring you our newest Old Rip Van Winkle Triple Mash Imperial Stout. This round will feature Vanuatu vanilla and Emperor’s Coconut atop its 22 months in this special barrel. \nTo help us celebrate\, we are also offering barrel aged bottle pours from a few of our friends\, including:\n🍺Bottle Logic\n🍺Weldwerks\n🍺Parish\n🍺J.Wakefield\n🍺The 8th State\n🍺North Park Brewing\n🍺Mortalis\n🍺Barreled Souls \n \n 
URL:https://www.eqbrew.com/event/equilibrium-canniversary-six/
ATTACH;FMTTYPE=image/jpeg:https://www.eqbrew.com/wp-content/uploads/2023/05/canniversary_six.jpg
END:VEVENT
BEGIN:VEVENT
DTSTART;TZID=America/Halifax:20230610T170000
DTEND;TZID=America/Halifax:20230610T200000
DTSTAMP:20260422T064051
CREATED:20230601T141927Z
LAST-MODIFIED:20230601T141927Z
UID:8537-1686416400-1686427200@www.eqbrew.com
SUMMARY:Debbie Gibson Concert Pre-Party
DESCRIPTION:Debbie Gibson is coming to Middletown to play across the street at Middletown’s Paramount Theatre. We are hosting a pre-party to celebrate. Join us for cocktails\, beers\, food specials\, and DJ Dukes spinning 80’s from 5-8 PM! \n \n  \n 
URL:https://www.eqbrew.com/event/debbie-gibson-concert-pre-party/
ATTACH;FMTTYPE=image/jpeg:https://www.eqbrew.com/wp-content/uploads/2023/06/dg6.jpg
END:VEVENT
END:VCALENDAR