BEGIN:VCALENDAR
VERSION:2.0
PRODID:-//Equilibrium Brewery - ECPv6.15.20//NONSGML v1.0//EN
CALSCALE:GREGORIAN
METHOD:PUBLISH
X-WR-CALNAME:Equilibrium Brewery
X-ORIGINAL-URL:https://www.eqbrew.com
X-WR-CALDESC:Events for Equilibrium Brewery
REFRESH-INTERVAL;VALUE=DURATION:PT1H
X-Robots-Tag:noindex
X-PUBLISHED-TTL:PT1H
BEGIN:VTIMEZONE
TZID:America/Halifax
BEGIN:DAYLIGHT
TZOFFSETFROM:-0400
TZOFFSETTO:-0300
TZNAME:ADT
DTSTART:20220313T060000
END:DAYLIGHT
BEGIN:STANDARD
TZOFFSETFROM:-0300
TZOFFSETTO:-0400
TZNAME:AST
DTSTART:20221106T050000
END:STANDARD
BEGIN:DAYLIGHT
TZOFFSETFROM:-0400
TZOFFSETTO:-0300
TZNAME:ADT
DTSTART:20230312T060000
END:DAYLIGHT
BEGIN:STANDARD
TZOFFSETFROM:-0300
TZOFFSETTO:-0400
TZNAME:AST
DTSTART:20231105T050000
END:STANDARD
BEGIN:DAYLIGHT
TZOFFSETFROM:-0400
TZOFFSETTO:-0300
TZNAME:ADT
DTSTART:20240310T060000
END:DAYLIGHT
BEGIN:STANDARD
TZOFFSETFROM:-0300
TZOFFSETTO:-0400
TZNAME:AST
DTSTART:20241103T050000
END:STANDARD
END:VTIMEZONE
BEGIN:VEVENT
DTSTART;VALUE=DATE:20230704
DTEND;VALUE=DATE:20230705
DTSTAMP:20260422T082801
CREATED:20230627T134306Z
LAST-MODIFIED:20230627T134306Z
UID:8575-1688428800-1688515199@www.eqbrew.com
SUMMARY:Open Regular Hours!
DESCRIPTION:We are open all day on July 4th! Let us deal with the BBQ and come sit back to enjoy a few beers!
URL:https://www.eqbrew.com/event/open-regular-hours-2/
END:VEVENT
BEGIN:VEVENT
DTSTART;TZID=America/Halifax:20230704T140000
DTEND;TZID=America/Halifax:20230704T170000
DTSTAMP:20260422T082801
CREATED:20230626T174309Z
LAST-MODIFIED:20230626T174309Z
UID:8557-1688479200-1688490000@www.eqbrew.com
SUMMARY:Live Music: Acoustics Anonymous
DESCRIPTION:Acoustics Anonymous\, The Duo playing alternative rock and pop hits is back at Equilibrium for Live Music on July 4th from 2-5 PM! \n 
URL:https://www.eqbrew.com/event/live-music-acoustics-anonymous-3/
ATTACH;FMTTYPE=image/png:https://www.eqbrew.com/wp-content/uploads/2022/08/Screen-Shot-2022-08-26-at-10.47.54-AM.png
END:VEVENT
BEGIN:VEVENT
DTSTART;TZID=America/Halifax:20230704T180000
DTEND;TZID=America/Halifax:20230704T210000
DTSTAMP:20260422T082801
CREATED:20230626T175106Z
LAST-MODIFIED:20230626T175106Z
UID:8559-1688493600-1688504400@www.eqbrew.com
SUMMARY:Boom Box Bingo
DESCRIPTION:Are you a connoisseur of music or have a vast array of music knowledge? Win EQ gift cards and prizes during Boom Box Bingo\, which is back on Tuesday night. \nThere are multiple rounds per night in the Name That Tune meets Bingo hybrid. Show us what you got! It runs from 6-9pm.
URL:https://www.eqbrew.com/event/boom-box-bingo-8/2023-07-04/
ATTACH;FMTTYPE=image/jpeg:https://www.eqbrew.com/wp-content/uploads/2023/01/boom_box_bingo_banner.jpg
END:VEVENT
END:VCALENDAR