BEGIN:VCALENDAR
VERSION:2.0
PRODID:-//Equilibrium Brewery - ECPv6.15.20//NONSGML v1.0//EN
CALSCALE:GREGORIAN
METHOD:PUBLISH
X-WR-CALNAME:Equilibrium Brewery
X-ORIGINAL-URL:https://www.eqbrew.com
X-WR-CALDESC:Events for Equilibrium Brewery
REFRESH-INTERVAL;VALUE=DURATION:PT1H
X-Robots-Tag:noindex
X-PUBLISHED-TTL:PT1H
BEGIN:VTIMEZONE
TZID:America/Halifax
BEGIN:DAYLIGHT
TZOFFSETFROM:-0400
TZOFFSETTO:-0300
TZNAME:ADT
DTSTART:20220313T060000
END:DAYLIGHT
BEGIN:STANDARD
TZOFFSETFROM:-0300
TZOFFSETTO:-0400
TZNAME:AST
DTSTART:20221106T050000
END:STANDARD
BEGIN:DAYLIGHT
TZOFFSETFROM:-0400
TZOFFSETTO:-0300
TZNAME:ADT
DTSTART:20230312T060000
END:DAYLIGHT
BEGIN:STANDARD
TZOFFSETFROM:-0300
TZOFFSETTO:-0400
TZNAME:AST
DTSTART:20231105T050000
END:STANDARD
BEGIN:DAYLIGHT
TZOFFSETFROM:-0400
TZOFFSETTO:-0300
TZNAME:ADT
DTSTART:20240310T060000
END:DAYLIGHT
BEGIN:STANDARD
TZOFFSETFROM:-0300
TZOFFSETTO:-0400
TZNAME:AST
DTSTART:20241103T050000
END:STANDARD
END:VTIMEZONE
BEGIN:VEVENT
DTSTART;TZID=America/Halifax:20230721T190000
DTEND;TZID=America/Halifax:20230721T210000
DTSTAMP:20260422T052230
CREATED:20230626T180851Z
LAST-MODIFIED:20230626T180851Z
UID:8568-1689966000-1689973200@www.eqbrew.com
SUMMARY:Live Music Friday: SOLJOI77
DESCRIPTION:SOLJOI77 is back at Equilibrium for another live session. Come kick off the weekend with this Hudson Valley\, NY Alternative R&B band\, blending the flavors of Neosoul\, Dance\, Hip Hop\, and Jazz! Their set starts at 7pm!
URL:https://www.eqbrew.com/event/live-music-friday-soljoi77/
ATTACH;FMTTYPE=image/png:https://www.eqbrew.com/wp-content/uploads/2022/08/Screen-Shot-2022-08-26-at-10.29.56-AM.png
END:VEVENT
END:VCALENDAR