BEGIN:VCALENDAR
VERSION:2.0
PRODID:-//Equilibrium Brewery - ECPv6.15.20//NONSGML v1.0//EN
CALSCALE:GREGORIAN
METHOD:PUBLISH
X-ORIGINAL-URL:https://www.eqbrew.com
X-WR-CALDESC:Events for Equilibrium Brewery
REFRESH-INTERVAL;VALUE=DURATION:PT1H
X-Robots-Tag:noindex
X-PUBLISHED-TTL:PT1H
BEGIN:VTIMEZONE
TZID:America/Halifax
BEGIN:DAYLIGHT
TZOFFSETFROM:-0400
TZOFFSETTO:-0300
TZNAME:ADT
DTSTART:20220313T060000
END:DAYLIGHT
BEGIN:STANDARD
TZOFFSETFROM:-0300
TZOFFSETTO:-0400
TZNAME:AST
DTSTART:20221106T050000
END:STANDARD
BEGIN:DAYLIGHT
TZOFFSETFROM:-0400
TZOFFSETTO:-0300
TZNAME:ADT
DTSTART:20230312T060000
END:DAYLIGHT
BEGIN:STANDARD
TZOFFSETFROM:-0300
TZOFFSETTO:-0400
TZNAME:AST
DTSTART:20231105T050000
END:STANDARD
BEGIN:DAYLIGHT
TZOFFSETFROM:-0400
TZOFFSETTO:-0300
TZNAME:ADT
DTSTART:20240310T060000
END:DAYLIGHT
BEGIN:STANDARD
TZOFFSETFROM:-0300
TZOFFSETTO:-0400
TZNAME:AST
DTSTART:20241103T050000
END:STANDARD
END:VTIMEZONE
BEGIN:VEVENT
DTSTART;TZID=America/Halifax:20230803T180000
DTEND;TZID=America/Halifax:20230803T210000
DTSTAMP:20260422T101141
CREATED:20230725T163028Z
LAST-MODIFIED:20231006T171000Z
UID:8719-1691085600-1691096400@www.eqbrew.com
SUMMARY:Karaoke Night
DESCRIPTION:Grab a beer and hand in your song selections\, karaoke is back. Join us in belting out your favorite tunes. It starts at 6pm!
URL:https://www.eqbrew.com/event/karaoke-night/2023-08-03/
ATTACH;FMTTYPE=image/jpeg:https://www.eqbrew.com/wp-content/uploads/2023/02/karaoke_banner.jpg
END:VEVENT
END:VCALENDAR