BEGIN:VCALENDAR
VERSION:2.0
PRODID:-//Equilibrium Brewery - ECPv6.15.20//NONSGML v1.0//EN
CALSCALE:GREGORIAN
METHOD:PUBLISH
X-WR-CALNAME:Equilibrium Brewery
X-ORIGINAL-URL:https://www.eqbrew.com
X-WR-CALDESC:Events for Equilibrium Brewery
REFRESH-INTERVAL;VALUE=DURATION:PT1H
X-Robots-Tag:noindex
X-PUBLISHED-TTL:PT1H
BEGIN:VTIMEZONE
TZID:America/Halifax
BEGIN:DAYLIGHT
TZOFFSETFROM:-0400
TZOFFSETTO:-0300
TZNAME:ADT
DTSTART:20240310T060000
END:DAYLIGHT
BEGIN:STANDARD
TZOFFSETFROM:-0300
TZOFFSETTO:-0400
TZNAME:AST
DTSTART:20241103T050000
END:STANDARD
BEGIN:DAYLIGHT
TZOFFSETFROM:-0400
TZOFFSETTO:-0300
TZNAME:ADT
DTSTART:20250309T060000
END:DAYLIGHT
BEGIN:STANDARD
TZOFFSETFROM:-0300
TZOFFSETTO:-0400
TZNAME:AST
DTSTART:20251102T050000
END:STANDARD
BEGIN:DAYLIGHT
TZOFFSETFROM:-0400
TZOFFSETTO:-0300
TZNAME:ADT
DTSTART:20260308T060000
END:DAYLIGHT
BEGIN:STANDARD
TZOFFSETFROM:-0300
TZOFFSETTO:-0400
TZNAME:AST
DTSTART:20261101T050000
END:STANDARD
END:VTIMEZONE
BEGIN:VEVENT
DTSTART;VALUE=DATE:20251028
DTEND;VALUE=DATE:20251029
DTSTAMP:20260424T080822
CREATED:20250507T173900Z
LAST-MODIFIED:20250507T173900Z
UID:13034-1761609600-1761695999@www.eqbrew.com
SUMMARY:Taco Tuesday
DESCRIPTION:Each Tuesday we are bringing you a taco special using our own delicious meat fillings and house made purple masa tortillas! We’re offering 3 tacos and a draft pour for $13. Keep an eye on social media to see what the specials are!
URL:https://www.eqbrew.com/event/taco-tuesday-2/2025-10-28/
ATTACH;FMTTYPE=image/jpeg:https://www.eqbrew.com/wp-content/uploads/2025/05/CDM_2025-5.jpg
END:VEVENT
END:VCALENDAR