BEGIN:VCALENDAR
VERSION:2.0
PRODID:-//Equilibrium Brewery - ECPv6.15.20//NONSGML v1.0//EN
CALSCALE:GREGORIAN
METHOD:PUBLISH
X-ORIGINAL-URL:https://www.eqbrew.com
X-WR-CALDESC:Events for Equilibrium Brewery
REFRESH-INTERVAL;VALUE=DURATION:PT1H
X-Robots-Tag:noindex
X-PUBLISHED-TTL:PT1H
BEGIN:VTIMEZONE
TZID:America/Halifax
BEGIN:DAYLIGHT
TZOFFSETFROM:-0400
TZOFFSETTO:-0300
TZNAME:ADT
DTSTART:20220313T060000
END:DAYLIGHT
BEGIN:STANDARD
TZOFFSETFROM:-0300
TZOFFSETTO:-0400
TZNAME:AST
DTSTART:20221106T050000
END:STANDARD
BEGIN:DAYLIGHT
TZOFFSETFROM:-0400
TZOFFSETTO:-0300
TZNAME:ADT
DTSTART:20230312T060000
END:DAYLIGHT
BEGIN:STANDARD
TZOFFSETFROM:-0300
TZOFFSETTO:-0400
TZNAME:AST
DTSTART:20231105T050000
END:STANDARD
BEGIN:DAYLIGHT
TZOFFSETFROM:-0400
TZOFFSETTO:-0300
TZNAME:ADT
DTSTART:20240310T060000
END:DAYLIGHT
BEGIN:STANDARD
TZOFFSETFROM:-0300
TZOFFSETTO:-0400
TZNAME:AST
DTSTART:20241103T050000
END:STANDARD
END:VTIMEZONE
BEGIN:VEVENT
DTSTART;TZID=America/Halifax:20230401T110000
DTEND;TZID=America/Halifax:20230401T150000
DTSTAMP:20260424T064006
CREATED:20230320T142029Z
LAST-MODIFIED:20230320T142029Z
UID:7832-1680346800-1680361200@www.eqbrew.com
SUMMARY:Barking Back Dog Adoption
DESCRIPTION:Barking Back Animal Rescue has been uniting homeless dogs with adopters since 2012. Their rescues are not kept in shelters or boarding environments. We’re happy to have them onsite with more information on their organization\, ways to register\, and with Dogs looking for a forever homes. Join us for a great cause. \nLearn more about them here: https://www.barkingback.org/ \n 
URL:https://www.eqbrew.com/event/barking-back-dog-adoption/
ATTACH;FMTTYPE=image/png:https://www.eqbrew.com/wp-content/uploads/2023/03/Screenshot-2023-03-20-at-10.14.06-AM.png
END:VEVENT
BEGIN:VEVENT
DTSTART;TZID=America/Halifax:20230402T140000
DTEND;TZID=America/Halifax:20230402T160000
DTSTAMP:20260424T064006
CREATED:20230320T142303Z
LAST-MODIFIED:20230320T142303Z
UID:7834-1680444000-1680451200@www.eqbrew.com
SUMMARY:Live Music Sunday: Hudson Valley Bluegrass
DESCRIPTION:Join us for Live Music Sunday at Equilibrium. Hudson Valley Bluegrass is back in the taproom with their set kicking off at 2pm!
URL:https://www.eqbrew.com/event/live-music-sunday-hudson-valley-bluegrass-2/
ATTACH;FMTTYPE=image/jpeg:https://www.eqbrew.com/wp-content/uploads/2022/07/bluegrass.jpg
END:VEVENT
BEGIN:VEVENT
DTSTART;TZID=America/Halifax:20230404T180000
DTEND;TZID=America/Halifax:20230404T210000
DTSTAMP:20260424T064006
CREATED:20230320T143938Z
LAST-MODIFIED:20230320T145132Z
UID:8204-1680631200-1680642000@www.eqbrew.com
SUMMARY:Boom Box Bingo
DESCRIPTION:Join us for Boom Box Bingo. The best way to describe it is it’s like “Name That Tune” meets “Bingo.” There are multiple games per night\, and you can play with a team or solo. Win prizes like EQ merchandise and EQ gift cards for your next visit.
URL:https://www.eqbrew.com/event/boom-box-bingo-3/
ATTACH;FMTTYPE=image/jpeg:https://www.eqbrew.com/wp-content/uploads/2023/01/boom_box_bingo_banner.jpg
END:VEVENT
BEGIN:VEVENT
DTSTART;TZID=America/Halifax:20230407T190000
DTEND;TZID=America/Halifax:20230407T210000
DTSTAMP:20260424T064006
CREATED:20230320T150035Z
LAST-MODIFIED:20230320T150035Z
UID:8421-1680894000-1680901200@www.eqbrew.com
SUMMARY:Live Music Friday: Noise Ordinance 149
DESCRIPTION:Live Music Friday is back. Kick off the week end with Noise Ordinance 149 covering popular alternative hits from the early 00s and beyond!
URL:https://www.eqbrew.com/event/live-music-friday-noise-ordinance-149-3/
ATTACH;FMTTYPE=image/png:https://www.eqbrew.com/wp-content/uploads/2022/07/Screen-Shot-2022-07-29-at-9.34.07-AM.png
END:VEVENT
BEGIN:VEVENT
DTSTART;VALUE=DATE:20230408
DTEND;VALUE=DATE:20230409
DTSTAMP:20260424T064006
CREATED:20230320T150454Z
LAST-MODIFIED:20230320T150526Z
UID:8422-1680912000-1680998399@www.eqbrew.com
SUMMARY:Space Exploration Day 2023
DESCRIPTION:We are lovers of space and the vast beyond\, so we will celebrate it…..together with you.Space Exploration Week will focus on all things beyond Earth and its atmosphere\, with a look into the vast expanse of the universe\, the majesty of the cosmos\, its breathtaking planets\, and stunning phenomena. We will celebrate with a week of all new space inspired beers and one very special galactic in-person release on Space Exploration Day itself\, 4.8.23\, our first triple mash “Pappy” Old Rip Van Winkle barrel aged stout. \nA day you won’t want to miss.
URL:https://www.eqbrew.com/event/space-exploration-day-2023/
ATTACH;FMTTYPE=image/png:https://www.eqbrew.com/wp-content/uploads/2023/03/Untitled-15-copy.png
END:VEVENT
BEGIN:VEVENT
DTSTART;TZID=America/Halifax:20230409T110000
DTEND;TZID=America/Halifax:20230409T150000
DTSTAMP:20260424T064006
CREATED:20230320T151044Z
LAST-MODIFIED:20230320T151044Z
UID:8425-1681038000-1681052400@www.eqbrew.com
SUMMARY:Holiday Brunch at Equilibrium
DESCRIPTION:Hop on over for holiday brunch on 4/9/23. We are accepting reservations\, and Bonfire will be preparing house-smoked spiral ham to create some new specials for our brunch menu for the day. Along with beer options\, we will offer local wine and house-made cocktails. We are open regular hours on Sunday\, 4/9\, and brunch runs from 11 a.m. to 3 p.m. \nIf you’d like to make a reservation\, please email events@eqbrew.com
URL:https://www.eqbrew.com/event/holiday-brunch-at-equilibrium/
ATTACH;FMTTYPE=image/jpeg:https://www.eqbrew.com/wp-content/uploads/2023/03/holiday_brunch-scaled.jpg
END:VEVENT
BEGIN:VEVENT
DTSTART;TZID=America/Halifax:20230409T140000
DTEND;TZID=America/Halifax:20230409T160000
DTSTAMP:20260424T064006
CREATED:20230320T150820Z
LAST-MODIFIED:20230320T150820Z
UID:8424-1681048800-1681056000@www.eqbrew.com
SUMMARY:Live Music Sunday: Matt Smith
DESCRIPTION:Matt Smith joins us for live music in the taproom. Join us for good beer\, good food\, and live music!
URL:https://www.eqbrew.com/event/live-music-sunday-matt-smith/
ATTACH;FMTTYPE=image/png:https://www.eqbrew.com/wp-content/uploads/2022/08/Screen-Shot-2022-08-26-at-10.54.00-AM.png
END:VEVENT
BEGIN:VEVENT
DTSTART;TZID=America/Halifax:20230411T183000
DTEND;TZID=America/Halifax:20230411T210000
DTSTAMP:20260424T064006
CREATED:20230320T145729Z
LAST-MODIFIED:20230412T144331Z
UID:8419-1681237800-1681246800@www.eqbrew.com
SUMMARY:Trivia Night at Bonfire
DESCRIPTION:Hudson Valley Trivia is back for more buzzer style trivia. It all starts at 6:30pm on Tuesday evening and winners take home beer and merch on us.
URL:https://www.eqbrew.com/event/trivia-night-at-bonfire/2023-04-11/
ATTACH;FMTTYPE=image/jpeg:https://www.eqbrew.com/wp-content/uploads/2022/06/IMG_9766-scaled.jpg
END:VEVENT
BEGIN:VEVENT
DTSTART;TZID=America/Halifax:20230414T190000
DTEND;TZID=America/Halifax:20230414T210000
DTSTAMP:20260424T064006
CREATED:20230320T151503Z
LAST-MODIFIED:20230320T151503Z
UID:8427-1681498800-1681506000@www.eqbrew.com
SUMMARY:Live Music Friday: DJ Dukes
DESCRIPTION:DJ Dukes joins us again to spin a mix of top 100\, 80s\, 90s\, an 00’s. Come get your weekend started with us!
URL:https://www.eqbrew.com/event/live-music-friday-dj-dukes-10/
ATTACH;FMTTYPE=image/jpeg:https://www.eqbrew.com/wp-content/uploads/2023/03/dj_dukes-scaled.jpg
END:VEVENT
BEGIN:VEVENT
DTSTART;TZID=America/Halifax:20230416T140000
DTEND;TZID=America/Halifax:20230416T160000
DTSTAMP:20260424T064006
CREATED:20230320T151748Z
LAST-MODIFIED:20230320T151748Z
UID:8429-1681653600-1681660800@www.eqbrew.com
SUMMARY:Live Music Sunday: Lucky House
DESCRIPTION:Lucky House joins us for Live Music Sunday. They play an assortment of Rock & Roll with NY Roots. We are happy to have them back!
URL:https://www.eqbrew.com/event/live-music-sunday-lucky-house-2/
ATTACH;FMTTYPE=image/png:https://www.eqbrew.com/wp-content/uploads/2023/02/Screenshot-2023-02-20-at-1.32.47-PM-1.png
END:VEVENT
BEGIN:VEVENT
DTSTART;TZID=America/Halifax:20230418T180000
DTEND;TZID=America/Halifax:20230418T210000
DTSTAMP:20260424T064006
CREATED:20230320T145235Z
LAST-MODIFIED:20230320T145235Z
UID:8417-1681840800-1681851600@www.eqbrew.com
SUMMARY:Boom Box Bingo
DESCRIPTION:Join us for Boom Box Bingo. The best way to describe it is it’s like “Name That Tune” meets “Bingo.” There are multiple games per night\, and you can play with a team or solo. Win prizes like EQ merchandise and EQ gift cards for your next visit.
URL:https://www.eqbrew.com/event/boom-box-bingo-4/
ATTACH;FMTTYPE=image/jpeg:https://www.eqbrew.com/wp-content/uploads/2023/01/boom_box_bingo_banner.jpg
END:VEVENT
BEGIN:VEVENT
DTSTART;TZID=America/Halifax:20230421T190000
DTEND;TZID=America/Halifax:20230421T210000
DTSTAMP:20260424T064006
CREATED:20230320T151952Z
LAST-MODIFIED:20230320T151952Z
UID:8430-1682103600-1682110800@www.eqbrew.com
SUMMARY:Live Music Friday: Mike Mack
DESCRIPTION:Mike Mack joins us for live music on Friday 4/21! Mike plays acoustic renditions of everyone’s favorite alternative songs from the 90s/00s and more! Come kick of the weekend with us!
URL:https://www.eqbrew.com/event/live-music-friday-mike-mack-2/
ATTACH;FMTTYPE=image/jpeg:https://www.eqbrew.com/wp-content/uploads/2022/08/MikeMack.jpg
END:VEVENT
BEGIN:VEVENT
DTSTART;TZID=America/Halifax:20230423T140000
DTEND;TZID=America/Halifax:20230423T160000
DTSTAMP:20260424T064006
CREATED:20230320T152215Z
LAST-MODIFIED:20230320T152215Z
UID:8431-1682258400-1682265600@www.eqbrew.com
SUMMARY:Live Music Sunday: Duet
DESCRIPTION:Duet joins us for classic swing music. Come close out the weekend with us!
URL:https://www.eqbrew.com/event/live-music-sunday-duet-3/
ATTACH;FMTTYPE=image/png:https://www.eqbrew.com/wp-content/uploads/2022/11/Screen-Shot-2022-11-22-at-2.33.10-PM.png
END:VEVENT
BEGIN:VEVENT
DTSTART;TZID=America/Halifax:20230428T190000
DTEND;TZID=America/Halifax:20230428T210000
DTSTAMP:20260424T064006
CREATED:20230320T152517Z
LAST-MODIFIED:20230425T155821Z
UID:8432-1682708400-1682715600@www.eqbrew.com
SUMMARY:Live Music Friday: Ethan Levy and Joe Mullaupt
DESCRIPTION:Ethan Levy and Joe Mullaupt join us with soulful renditions of contemporary jams and yesterday’s pop hits. Join is in the taproom for Live Music Friday starting at 7pm!
URL:https://www.eqbrew.com/event/live-music-friday-ethan-levy-and-tom-messina-4/
ATTACH;FMTTYPE=image/jpeg:https://www.eqbrew.com/wp-content/uploads/2022/12/ethanlevy-e1674066469278.jpg
END:VEVENT
BEGIN:VEVENT
DTSTART;TZID=America/Halifax:20230430T140000
DTEND;TZID=America/Halifax:20230430T160000
DTSTAMP:20260424T064006
CREATED:20230320T152859Z
LAST-MODIFIED:20230320T152859Z
UID:8433-1682863200-1682870400@www.eqbrew.com
SUMMARY:Live Music Sunday: Dan Brother
DESCRIPTION:Dan Brother is back to help close out the weekend. Join us for good beer\, good food\, and live music!
URL:https://www.eqbrew.com/event/live-music-sunday-dan-brother/
ATTACH;FMTTYPE=image/jpeg:https://www.eqbrew.com/wp-content/uploads/2022/07/Dan_Brother.jpg
END:VEVENT
END:VCALENDAR